BEGIN:VCALENDAR
VERSION:2.0
PRODID:-//European Public Sphere - ECPv6.0.9//NONSGML v1.0//EN
CALSCALE:GREGORIAN
METHOD:PUBLISH
X-WR-CALNAME:European Public Sphere
X-ORIGINAL-URL:https://www.publicsphere.eu
X-WR-CALDESC:Veranstaltungen für European Public Sphere
REFRESH-INTERVAL;VALUE=DURATION:PT1H
X-Robots-Tag:noindex
X-PUBLISHED-TTL:PT1H
BEGIN:VTIMEZONE
TZID:Europe/Berlin
BEGIN:DAYLIGHT
TZOFFSETFROM:+0100
TZOFFSETTO:+0200
TZNAME:CEST
DTSTART:20180325T010000
END:DAYLIGHT
BEGIN:STANDARD
TZOFFSETFROM:+0200
TZOFFSETTO:+0100
TZNAME:CET
DTSTART:20181028T010000
END:STANDARD
END:VTIMEZONE
BEGIN:VEVENT
DTSTART;VALUE=DATE:20180813
DTEND;VALUE=DATE:20180817
DTSTAMP:20260425T162302
CREATED:20180805T125657Z
LAST-MODIFIED:20180805T125657Z
UID:5899-1534118400-1534463999@www.publicsphere.eu
SUMMARY:Dome-Talks im Toten Gebirge
DESCRIPTION:Im Rahmen der Österreich-Tour zur EU-Ratspräsidentschaft werden wir auch in den luftigen Höhen der Alpen unsere Kuppel aufbauen. \nDas Thema\, das wir in unserem Europe-Dome diskutieren möchten\, lautet: \n„Wozu brauchen wir die Alpen?“ \nDie Gespräche finden am Dienstag\, 14. August von 10:00 bis 19:00 auf dem Albert-Appelhaus statt \nDurch seine geografische Lage ist Österreich stark durch die Alpen geprägt\, die das Land als wichtige Ressource zu nutzen weiß. Zu Fuß wollen wir die Henaralm im Grenzgebiet von Steiermark und Oberösterreich besteigen und in luftigen Höhen unseren Europe-Dome errichten. Mit der Frage „Wozu braucht Europa die Alpen?“ wollen wir neben der ökologischen und ökonomischen Dimension auch auf die geografische und kulturelle Vielfalt Europas blicken. \nSeien Sie herzlich willkommen mit uns gemeinsam in traumhafter Umgebung in einer geodätischen Kuppel über Europa und die Alpen zu sprechen. \nEs wird gebeten schon am Vortag auzusteigen und bis zur Almmesse am 15.08. (Maria Himmelfahrt) zu bleiben. \nÜbernachtungsmöglichkeiten:\nAlbert-Appelhaus (bewirtschaftetes Schutzhaus)\n0676 3336668 Flo Marl\nhttps://www.albert-appelhaus.at/ \nHenaralmhütte der Naturfreunde (Selbstversorgerhütte)\n0650 5202921 Josef Zeisel\n0664 8304370 Peko Baxant\nhttp://www.naturfreunde-huetten.at/steiermark/henaralmhuette/ \nAufstieg über Grundlsee\, Gaiswinkl empfohlen; alpiner Wanderweg 4h Gehzeit inmitten herrlichster Natur! \nÜber Ihr Kommen freut sich das Team der European Public Sphere! \nDie Initiative European Public Sphere möchte mit ihren Dome-Talks an öffentlichen Plätzen in Europa einen Beitrag leisten zur Bildung einer europäischen Öffentlichkeit\, in der die europäische Bürgerschaft über Zukunftsfragen ihres Gemeinwesens nachdenken und diskutieren kann. Die Verbreitung dieser Dome-Talks im Internet und durch andere Publikationen dient der Anregung eines solchen öffentlichen Diskurses zu unserer sozialen Zukunft.
URL:https://www.publicsphere.eu/event/dome-talks-im-toten-gebirge/
LOCATION:Albert-Appel-Haus\, Albert-Appel-Haus\, Totes Gebirge\, Totes Gebirge\, 8993\, Österreich
CATEGORIES:Österreich-Tour 2018
ATTACH;FMTTYPE=image/jpeg:https://www.publicsphere.eu/wp-content/uploads/2018/05/oesterreich-tour-grafik.jpg
GEO:47.6933144;13.8703049
X-APPLE-STRUCTURED-LOCATION;VALUE=URI;X-ADDRESS=Albert-Appel-Haus Albert-Appel-Haus Totes Gebirge Totes Gebirge 8993 Österreich;X-APPLE-RADIUS=500;X-TITLE=Albert-Appel-Haus\, Totes Gebirge:geo:13.8703049,47.6933144
END:VEVENT
BEGIN:VEVENT
DTSTART;VALUE=DATE:20180817
DTEND;VALUE=DATE:20180827
DTSTAMP:20260425T162302
CREATED:20180806T095709Z
LAST-MODIFIED:20180806T095709Z
UID:5924-1534464000-1535327999@www.publicsphere.eu
SUMMARY:Dome Talk im Hambacher Forst
DESCRIPTION:Während des Camp for Future\, vom 17. bis 26. August\, steht der Europe-Dome im Hambacher Forst als Teil der European-Public-Sphere-Tour durch Nordrhein-Westfalen. \nUm die europäische Idee zu stärken\, brauchen wir ständig neue Ideen und Initiativen\, die Brücken bauen. Nur durch eine offene Debatte können wir ein demokratischeres Europa entwickeln. \nAuch in dieser von Mehr Demokratie – Nordrhein-Westfalen veranstalteten Reihe von Dome-Talks sollen unsere Zukunft-Fragen an ein neues Europa gestellt werden: \nWie wollen wir unser Gemeinwesen im 21. Jahrhundert gestalten?\nWas sind die Entwürfe für eine europäische Demokratie?\nWelche Rolle hat die Bildung\, die Wissenschaft und die Kunst?\nWie kann ein europäischer Weg der Wirtschaft und des Geldes aussehen? \nSiehe auch die die weiteren Termine unserer European-Public-Sphere-Tour durch Nordrhein-Westfalen \nGenaue Zeit\, Ort und das konkrete Thema für die Veranstaltung werden noch bekannt gegeben.
URL:https://www.publicsphere.eu/event/dome-talk-im-hambacher-forst/
LOCATION:Camp for Future\, Hambacher Forst\, Berrendorfer Straße\, Kerpen\, 50170\, Germany
CATEGORIES:NRW-Tour 2018
ATTACH;FMTTYPE=image/jpeg:https://www.publicsphere.eu/wp-content/uploads/2018/03/wien-okt-2017-5.jpg
GEO:50.9;6.4333333
X-APPLE-STRUCTURED-LOCATION;VALUE=URI;X-ADDRESS=Camp for Future Hambacher Forst Berrendorfer Straße Kerpen 50170 Germany;X-APPLE-RADIUS=500;X-TITLE=Hambacher Forst\, Berrendorfer Straße:geo:6.4333333,50.9
END:VEVENT
END:VCALENDAR