BEGIN:VCALENDAR
VERSION:2.0
PRODID:-//European Public Sphere - ECPv6.0.9//NONSGML v1.0//EN
CALSCALE:GREGORIAN
METHOD:PUBLISH
X-WR-CALNAME:European Public Sphere
X-ORIGINAL-URL:https://www.publicsphere.eu
X-WR-CALDESC:Veranstaltungen für European Public Sphere
REFRESH-INTERVAL;VALUE=DURATION:PT1H
X-Robots-Tag:noindex
X-PUBLISHED-TTL:PT1H
BEGIN:VTIMEZONE
TZID:Europe/Berlin
BEGIN:DAYLIGHT
TZOFFSETFROM:+0100
TZOFFSETTO:+0200
TZNAME:CEST
DTSTART:20180325T010000
END:DAYLIGHT
BEGIN:STANDARD
TZOFFSETFROM:+0200
TZOFFSETTO:+0100
TZNAME:CET
DTSTART:20181028T010000
END:STANDARD
END:VTIMEZONE
BEGIN:VEVENT
DTSTART;VALUE=DATE:20180225
DTEND;VALUE=DATE:20180303
DTSTAMP:20260425T163735
CREATED:20180116T184108Z
LAST-MODIFIED:20180319T085003Z
UID:1145-1519516800-1520035199@www.publicsphere.eu
SUMMARY:Die European Public Sphere bei der bildungsArt 18
DESCRIPTION:Vom 25. Februar bis zum 2. März findet in Stuttgart die vom campusA organisierte Tagung „bildungsART 18“ zum Thema „Menschenwürde – Menschenrechte“  statt. \nDie Initiative „European Public Sphere“ ist eingeladen uns wird während der ganzen Tagung mit ihrer Kuppel vor Ort sein und die Fragen zu einem zukünftigen Europa mit interessierten Teilnehmerinnen und Teilnehmern Diskutieren. \nDer campusA Stuttgart ist eine Kooperation anthroposophischer Ausbildungsstätten in  Stuttgart.
URL:https://www.publicsphere.eu/event/die-european-public-sphere-bei-der-bildungsart-18/
LOCATION:campusA\, Zur Uhlandshöhe 10\, Stuttgart\, 70188\, Deutschland
CATEGORIES:Dome Event
ATTACH;FMTTYPE=image/jpeg:https://www.publicsphere.eu/wp-content/uploads/2018/03/calendar-stuttgart-steiner-haus.jpg
GEO:48.78326;9.19462
X-APPLE-STRUCTURED-LOCATION;VALUE=URI;X-ADDRESS=campusA Zur Uhlandshöhe 10 Stuttgart 70188 Deutschland;X-APPLE-RADIUS=500;X-TITLE=Zur Uhlandshöhe 10:geo:9.19462,48.78326
END:VEVENT
END:VCALENDAR