BEGIN:VCALENDAR
VERSION:2.0
PRODID:-//European Public Sphere - ECPv6.0.9//NONSGML v1.0//EN
CALSCALE:GREGORIAN
METHOD:PUBLISH
X-WR-CALNAME:European Public Sphere
X-ORIGINAL-URL:https://www.publicsphere.eu/?lang=fr
X-WR-CALDESC:évènements pour European Public Sphere
REFRESH-INTERVAL;VALUE=DURATION:PT1H
X-Robots-Tag:noindex
X-PUBLISHED-TTL:PT1H
BEGIN:VTIMEZONE
TZID:Europe/Berlin
BEGIN:DAYLIGHT
TZOFFSETFROM:+0100
TZOFFSETTO:+0200
TZNAME:CEST
DTSTART:20190331T010000
END:DAYLIGHT
BEGIN:STANDARD
TZOFFSETFROM:+0200
TZOFFSETTO:+0100
TZNAME:CET
DTSTART:20191027T010000
END:STANDARD
END:VTIMEZONE
BEGIN:VEVENT
DTSTART;TZID=Europe/Berlin:20190401T123000
DTEND;TZID=Europe/Berlin:20190401T170000
DTSTAMP:20260421T121718
CREATED:20190306T153415Z
LAST-MODIFIED:20190326T162940Z
UID:7236-1554121800-1554138000@www.publicsphere.eu
SUMMARY:Bruxelles - Esplanade Vrije Universiteit Brussel
DESCRIPTION:Le 1er avril\, le Europe Dome viendra à Bruxelles\, juste avant le 2ème avril\, un jour très exceptionnel pour la démocratie. C’est le jour de l’Initiative citoyenne européenne\, que a été lancer de la part de « Democracy International » en 2007. Cet instrument donne aux citoyens la possibilité de stimuler des changements législatifs au niveau européen a travers de leurs signatures. Quelle meilleure façon de célébrer cette journée particulière qu’en discutant ensemble sous le dôme ? Pour cela\, peu avons la reforme de l’initiative citoyenne européenne\, nous travaillons alors d’arrache pieds pour une plus grande participation des citoyens. Et ceci nous faisons au cœur de l’Union Européenne\, à Bruxelles. Venez à l’Esplanade devant le Crazy Copy Centre dans le VUB Campus et rejoignez-nous. \nDiscutez avec nous aux thèmes de l’UE. Quels sont les problèmes que nous rencontrons? Que voulons-nous changer? Et qu’est-ce que fonctionne déjà bien? Vous pouvez nous joindre pour dix minutes ou pour une heure – c’est votre choix. Tout le monde est le bienvenu et chaque opinion compte! \nIl y aura deux heures pendant la journée.\nHeures de début :\n12:30h Participation citoyenne dans l’UE\n15:00h Le changement climatique et l’UE\nIl est bien sûr également possible d’adhérer plus tard\, lorsque les discussions ont déjà commencé.
URL:https://www.publicsphere.eu/event/bruxelles-esplanade-vrije-universiteit-brussel/?lang=fr
LOCATION:esplanade\, Espalande Vrije Universiteit Brussel\, Brussel\, Belgium
ATTACH;FMTTYPE=image/jpeg:https://www.publicsphere.eu/wp-content/uploads/2019/03/Facebook_Veranstaltung_Brussels2.jpg
GEO:50.821658;4.394886
X-APPLE-STRUCTURED-LOCATION;VALUE=URI;X-ADDRESS=esplanade Espalande Vrije Universiteit Brussel Brussel Belgium;X-APPLE-RADIUS=500;X-TITLE=Espalande Vrije Universiteit Brussel:geo:4.394886,50.821658
END:VEVENT
BEGIN:VEVENT
DTSTART;TZID=Europe/Berlin:20190330T110000
DTEND;TZID=Europe/Berlin:20190330T200000
DTSTAMP:20260421T121718
CREATED:20190306T152646Z
LAST-MODIFIED:20190313T125028Z
UID:6791-1553943600-1553976000@www.publicsphere.eu
SUMMARY:Liège - Médiacité
DESCRIPTION:En même temps que l’April et son temps fameux (mouillé) s’approchent\, nous nous preparons pour les premiers évènements indoor du projet European Public Sphere: on va mener trois débats sous la coupole dans le centre commercial Médiacité à Liège. Ensemble avec les citoyens et citoyennes\, les représentants de la société civile et de la politique on va parler sur l’avenir de notre Europe commun. Joignez nous à partir de 10 heures du matin au Médiacité! \nQuels sont les problèmes que nous rencontrons? Que voulons-nous changer? Et qu’est-ce que fonctionne déjà bien? À Liège\, nous nous concentrons sur la démocratie digitale et nos expectatives à l’égard du nouveau Parlement Européen. Tout le monde est le bienvenu et chaque opinion compte! \nIl y aura trois conversations pendant la journée. Heures de début:\n11:00h\n14:30h\n17:00h\nIl est bien sûr également possible d’adhérer plus tard\, après le début des discussions.
URL:https://www.publicsphere.eu/event/luettich-european-public-sphere-benelux-tour/?lang=fr
LOCATION:médiacité Shopping Liège\, Boulevard Raymond Poincaré 7\, Lüttich\, 4020\, Belgium
ATTACH;FMTTYPE=image/jpeg:https://www.publicsphere.eu/wp-content/uploads/2019/03/54236653_1977701849191274_4115699411219120128_o-2.jpg
GEO:50.6319551;5.5801465
X-APPLE-STRUCTURED-LOCATION;VALUE=URI;X-ADDRESS=médiacité Shopping Liège Boulevard Raymond Poincaré 7 Lüttich 4020 Belgium;X-APPLE-RADIUS=500;X-TITLE=Boulevard Raymond Poincaré 7:geo:5.5801465,50.6319551
END:VEVENT
END:VCALENDAR