BEGIN:VCALENDAR
VERSION:2.0
PRODID:-//European Public Sphere - ECPv6.0.9//NONSGML v1.0//EN
CALSCALE:GREGORIAN
METHOD:PUBLISH
X-ORIGINAL-URL:https://www.publicsphere.eu/?lang=fr
X-WR-CALDESC:évènements pour European Public Sphere
REFRESH-INTERVAL;VALUE=DURATION:PT1H
X-Robots-Tag:noindex
X-PUBLISHED-TTL:PT1H
BEGIN:VTIMEZONE
TZID:Europe/Berlin
BEGIN:DAYLIGHT
TZOFFSETFROM:+0100
TZOFFSETTO:+0200
TZNAME:CEST
DTSTART:20190331T010000
END:DAYLIGHT
BEGIN:STANDARD
TZOFFSETFROM:+0200
TZOFFSETTO:+0100
TZNAME:CET
DTSTART:20191027T010000
END:STANDARD
END:VTIMEZONE
BEGIN:VEVENT
DTSTART;TZID=Europe/Berlin:20190519T120000
DTEND;TZID=Europe/Berlin:20190519T170000
DTSTAMP:20260420T042456
CREATED:20190306T160456Z
LAST-MODIFIED:20190306T160456Z
UID:7419-1558267200-1558285200@www.publicsphere.eu
SUMMARY:Luxembourg - Place Clairfontaine
DESCRIPTION:Ce site web n’est disponible qu’en anglais et en allemand. \n— DEUTSCH —\nKurz vor der Europawahl kommen wir zu unserem letzten Halt: Dem Place Clairfontaine in Luxemburg Stadt. Das Europäische Parlament\, der Gerichtshof der Europäischen Union\, der Europäische Rechnungshof\, die Europäische Investitionsbank\, sie alle haben zumindest Teile ihres Sitzes in Luxemburgs Hauptstadt. Und mit ihren Mottos – „Die Stimme des Volkes“; „Die Herrschaft des Rechts“; „Verantwortungsvoller Umgang mit Steuergeldern“ und „Investitionen in die Zukunft“ – bieten sie mehr als genug Denkanstöße für eine Zusammenkunft im Europe-Dome. \nEs wird tagsüber zwei Dome Talks geben.\n12:30-14:00 Ökologie und Demokratie: Inwieweit arbeitet die EU nach ihren eigenen Mottos?\n15:00-16:30 Was bedeutet es\, ein kleines Land in der groẞen EU zu sein? \nDu kannst an den Diskussionen für zehn Minuten oder für eine Stunde teilnehmen. Es ist natürlich auch möglich\, später beizutreten\, wenn die Diskussionen bereits begonnen haben. Jeder ist willkommen und jede Meinung zählt! \nENGLISH\nJust ahead of the European elections\, we will reach our last stop: the place Clairfontaine in Luxembourg City. The European Parliament\, the Court of Justice of the European Union\, the European Court of Auditors\, the European Investment Bank\, they all have at least parts of their headquarters in Luxembourg’s capital. And with their slogans – “The voice of the people”\, “The rule of law”\, “Responsible use of taxpayers’ money” and “Investing in the future” – they offer more than enough food for thought for a debate under the Europe Dome. \nJoin and discuss the EU with us! What are the problems we encounter? What do we want to change? And what works well already? In Luxembourg\, we discuss the mottos of the different institutions of the EU and what it means to be a small country in the big whole of the EU. Everyone is welcome and every opinion is given a voice! \nThere will be two Dome Talks during the day.\nSchedule:\n12:30-14:00 Climate change and democracy: To what extent does the EU operate according to its own mottos?\n15:00-16:30 What does it mean to be a small country in the big EU?\nFeel free to join at any time!
URL:https://www.publicsphere.eu/event/luxembourg-place-clairfontaine/?lang=fr
LOCATION:Luxembourg – Place Clairfontaine\, Place Clairfontaine\, Luxembourg\, 1536\, Luxembourg
CATEGORIES:BeNeLux Tour
ATTACH;FMTTYPE=image/jpeg:https://www.publicsphere.eu/wp-content/uploads/2019/03/53435189_1977687595859366_5659928651655806976_o.jpg
GEO:49.6098812;6.132636
X-APPLE-STRUCTURED-LOCATION;VALUE=URI;X-ADDRESS=Luxembourg – Place Clairfontaine Place Clairfontaine Luxembourg 1536 Luxembourg;X-APPLE-RADIUS=500;X-TITLE=Place Clairfontaine:geo:6.132636,49.6098812
END:VEVENT
END:VCALENDAR