BEGIN:VCALENDAR
VERSION:2.0
PRODID:-//European Public Sphere - ECPv6.0.9//NONSGML v1.0//EN
CALSCALE:GREGORIAN
METHOD:PUBLISH
X-WR-CALNAME:European Public Sphere
X-ORIGINAL-URL:https://www.publicsphere.eu/?lang=fr
X-WR-CALDESC:évènements pour European Public Sphere
REFRESH-INTERVAL;VALUE=DURATION:PT1H
X-Robots-Tag:noindex
X-PUBLISHED-TTL:PT1H
BEGIN:VTIMEZONE
TZID:Europe/Berlin
BEGIN:DAYLIGHT
TZOFFSETFROM:+0100
TZOFFSETTO:+0200
TZNAME:CEST
DTSTART:20190331T010000
END:DAYLIGHT
BEGIN:STANDARD
TZOFFSETFROM:+0200
TZOFFSETTO:+0100
TZNAME:CET
DTSTART:20191027T010000
END:STANDARD
END:VTIMEZONE
BEGIN:VEVENT
DTSTART;TZID=Europe/Berlin:20190518T120000
DTEND;TZID=Europe/Berlin:20190518T170000
DTSTAMP:20260420T132623
CREATED:20190306T161044Z
LAST-MODIFIED:20190306T161044Z
UID:7421-1558180800-1558198800@www.publicsphere.eu
SUMMARY:Schengen
DESCRIPTION:Ce site web n’est disponible qu’en anglais et allemand: \n— DEUTSCH —\nSchengen… Namensgeber und Geburtsort des Schengener Abkommens und somit des grenzfreien europäischen Raumes. Und nicht nur deshalb ist grade diese Stadt verdienterweise Synonym für Europa. Im Südosten von Luxemburg\, liegt sie mitten im von Deutschland (Saarland)\, Frankreich (Lothringen) und Luxemburg (Remich) gebildeten Dreiländereck. Wie lebt es sich in einem der Herzen von Europa? Was können wir aus dieser Vielfalt lernen? Wie entsteht Gemeinsamkeit? Diese und andere Aspekte möchten wir mit Ihnen und weiteren Vertretern aus allen 3 Regionen unter der Kuppel besprechen. Den genauen Ort geben wir noch bekannt. \nSeien sie dabei und diskutieren Sie mit uns über die EU! Mit welchen Problemen sind wir konfrontiert? Was wollen wir ändern? Und was funktioniert bereits gut? \nEs wird tagsüber zwei Dome Talks geben.\nStartzeiten:\n12:30-14:00 Europäische Integration\n15:00-16:30 EU-regionale Erfahrungen \nDu kannst an den Diskussionen für zehn Minuten oder für eine Stunde teilnehmen. Jeder ist willkommen und jede Meinung zählt! Es ist natürlich auch möglich\, später beizutreten\, wenn die Diskussionen bereits begonnen haben. \nENGLISH\nSchengen…The birthplace of the Schengen Agreement and the name of the borderless European area. But this is not the only reason why this city has become synonymous with Europe. Situated in the southeast of Luxembourg\, Schengen lies directly on the tri-border point between Germany (Saarland)\, France (Lothringen) and Luxembourg (Remich). What is life like in one of the hearts of Europe? What can we learn from their unique diversity? How does communality arise? We want to discuss this and other aspects with you and citizens from all 3 regions under our dome. Keep an eye out for the confirmed exact location later! \nJoin and discuss the EU with us! What are the problems we encounter? What do we want to change? And what works well already? In Schengen\, we will focus on topics such as inter-EU regional experiences and European integration. Everyone is welcome and every opinion is given a voice! \nThere will be two Dome Talks during the day.\nSchedule:\n12:30-14:00 European Integration\n15:00-16:30 EU-regional experiences\nFeel free to join at any time!
URL:https://www.publicsphere.eu/event/schengen/?lang=fr
LOCATION:Schengen\, Rue Robert Goebbels 6\, Schengen\, Luxembourg
ATTACH;FMTTYPE=image/jpeg:https://www.publicsphere.eu/wp-content/uploads/2019/03/54523393_1977686272526165_6703766963425902592_o-2.jpg
GEO:49.4707052;6.3664046
X-APPLE-STRUCTURED-LOCATION;VALUE=URI;X-ADDRESS=Schengen Rue Robert Goebbels 6 Schengen Luxembourg;X-APPLE-RADIUS=500;X-TITLE=Rue Robert Goebbels 6:geo:6.3664046,49.4707052
END:VEVENT
END:VCALENDAR